BEGIN:VCALENDAR
VERSION:2.0
PRODID:-// - ECPv6.0.12//NONSGML v1.0//EN
CALSCALE:GREGORIAN
METHOD:PUBLISH
X-ORIGINAL-URL:https://www.charmainebaines.com
X-WR-CALDESC:Events for 
REFRESH-INTERVAL;VALUE=DURATION:PT1H
X-Robots-Tag:noindex
X-PUBLISHED-TTL:PT1H
BEGIN:VTIMEZONE
TZID:UTC
BEGIN:STANDARD
TZOFFSETFROM:+0000
TZOFFSETTO:+0000
TZNAME:UTC
DTSTART:20230101T000000
END:STANDARD
TZID:Europe/London
BEGIN:DAYLIGHT
TZOFFSETFROM:+0000
TZOFFSETTO:+0100
TZNAME:BST
DTSTART:20230326T010000
END:DAYLIGHT
BEGIN:STANDARD
TZOFFSETFROM:+0100
TZOFFSETTO:+0000
TZNAME:GMT
DTSTART:20231029T010000
END:STANDARD
END:VTIMEZONE
BEGIN:VEVENT
DTSTART;TZID=UTC:20240526T200000
DTEND;TZID=UTC:20240526T200000
DTSTAMP:20260422T150253
CREATED:20231101T202528Z
LAST-MODIFIED:20231101T202550Z
UID:1561-1716753600-1716753600@www.charmainebaines.com
SUMMARY:Matrix Club Matrix Live Club Classics Private Party
DESCRIPTION:Worcester
URL:https://www.charmainebaines.com/event/matrix-club-matrix-private-party-2/
LOCATION:Worcester\, United Kingdom
END:VEVENT
BEGIN:VEVENT
DTSTART;TZID=UTC:20240525T190000
DTEND;TZID=UTC:20240525T230000
DTSTAMP:20260422T150253
CREATED:20230618T202619Z
LAST-MODIFIED:20230618T202619Z
UID:1518-1716663600-1716678000@www.charmainebaines.com
SUMMARY:Matrix Club Matrix - Private Party
DESCRIPTION:
URL:https://www.charmainebaines.com/event/matrix-club-matrix-private-party/
END:VEVENT
BEGIN:VEVENT
DTSTART;TZID=UTC:20240517T213000
DTEND;TZID=UTC:20240517T233000
DTSTAMP:20260422T150253
CREATED:20231121T175839Z
LAST-MODIFIED:20231121T175839Z
UID:1569-1715981400-1715988600@www.charmainebaines.com
SUMMARY:Matrix Club Matrix 90s Club Classics Live
DESCRIPTION:
URL:https://www.charmainebaines.com/event/matrix-club-matrix-90s-club-classics-live/
LOCATION:The Mount Tavern\, 245 Penn Rd\, Wolverhampton WV4 5SF.
END:VEVENT
BEGIN:VEVENT
DTSTART;TZID=UTC:20240511T210000
DTEND;TZID=UTC:20240511T233000
DTSTAMP:20260422T150253
CREATED:20231101T193627Z
LAST-MODIFIED:20240320T125241Z
UID:1545-1715461200-1715470200@www.charmainebaines.com
SUMMARY:Charmaine Baines Club Classics & DJ Sets
DESCRIPTION:
URL:https://www.charmainebaines.com/event/charmaine-baines-club-classics-dj-sets/
LOCATION:The Factory Floor\, Quarter Potbank\, Stoke-on-Trent\, United Kingdom
END:VEVENT
BEGIN:VEVENT
DTSTART;TZID=UTC:20240504T220000
DTEND;TZID=UTC:20240504T233000
DTSTAMP:20260422T150253
CREATED:20231101T200423Z
LAST-MODIFIED:20231101T201551Z
UID:1551-1714860000-1714865400@www.charmainebaines.com
SUMMARY:Matrix Club Matrix 90s Club Classics & Dance Anthems
DESCRIPTION:www.matrixclubmatrix.co.uk
URL:https://www.charmainebaines.com/event/matrix-club-matrix-90s-club-classics-dance-anthems/
LOCATION:Granvilles Live Music Venue\, Granvilles Square\, Stone\,Staffs\, ST15 8AB.
END:VEVENT
BEGIN:VEVENT
DTSTART;TZID=UTC:20240426T210000
DTEND;TZID=UTC:20240426T233000
DTSTAMP:20260422T150253
CREATED:20231101T193405Z
LAST-MODIFIED:20231101T194047Z
UID:1542-1714165200-1714174200@www.charmainebaines.com
SUMMARY:Charmaine Baines Live Club Classics & DJ Set
DESCRIPTION:
URL:https://www.charmainebaines.com/event/charmaine-baines-live-club-classics-dj-set/
LOCATION:The Factory Floor\, Quarter Potbank\, Stoke-on-Trent\, United Kingdom
END:VEVENT
BEGIN:VEVENT
DTSTART;TZID=UTC:20240329T210000
DTEND;TZID=UTC:20240329T233000
DTSTAMP:20260422T150253
CREATED:20231101T145723Z
LAST-MODIFIED:20231101T145723Z
UID:1528-1711746000-1711755000@www.charmainebaines.com
SUMMARY:Charmaine Baines Club Classics DJ & Live Vocals Sets
DESCRIPTION:
URL:https://www.charmainebaines.com/event/charmaine-baines-club-classics-dj-live-vocals-sets/
LOCATION:The Factory Floor\, Quarter Potbank\, Stoke-on-Trent\, United Kingdom
END:VEVENT
BEGIN:VEVENT
DTSTART;TZID=UTC:20240223T210000
DTEND;TZID=UTC:20240223T233000
DTSTAMP:20260422T150253
CREATED:20231101T145534Z
LAST-MODIFIED:20231101T145534Z
UID:1524-1708722000-1708731000@www.charmainebaines.com
SUMMARY:Charmaine Baines Club Classics DJ & Live Vocal Set
DESCRIPTION:
URL:https://www.charmainebaines.com/event/charmaine-baines-club-classics-dj-live-vocal-set/
LOCATION:The Factory Floor\, Quarter Potbank\, Stoke-on-Trent\, United Kingdom
END:VEVENT
BEGIN:VEVENT
DTSTART;TZID=UTC:20240217T210000
DTEND;TZID=UTC:20240217T230000
DTSTAMP:20260422T150253
CREATED:20231101T192414Z
LAST-MODIFIED:20231101T192833Z
UID:1538-1708203600-1708210800@www.charmainebaines.com
SUMMARY:Matrix Club Matrix Live 90s Club Classics & Dance Anthems
DESCRIPTION:www.matrixclubmatrix.co.uk
URL:https://www.charmainebaines.com/event/matrix-club-matrix-live-90s-club-classics-dance-anthems/
LOCATION:The Factory Floor\, Quarter Potbank\, Stoke-on-Trent\, United Kingdom
END:VEVENT
BEGIN:VEVENT
DTSTART;TZID=UTC:20240210T220000
DTEND;TZID=UTC:20240210T233000
DTSTAMP:20260422T150253
CREATED:20231101T150757Z
LAST-MODIFIED:20231101T150757Z
UID:1535-1707602400-1707607800@www.charmainebaines.com
SUMMARY:Matrix Club Matrix - 90s Club Classics Live at Granvilles
DESCRIPTION:www.matrixclubmatrix.co.uk\n90s Club Classics and Dance Anthems
URL:https://www.charmainebaines.com/event/matrix-club-matrix-90s-club-classics-live-at-granvilles/
LOCATION:Granvilles Live Music Venue\, Granvilles Square\, Stone\,Staffs\, ST15 8AB.
END:VEVENT
BEGIN:VEVENT
DTSTART;TZID=UTC:20240203T200000
DTEND;TZID=UTC:20240203T233000
DTSTAMP:20260422T150253
CREATED:20231101T150124Z
LAST-MODIFIED:20231101T201324Z
UID:1531-1706990400-1707003000@www.charmainebaines.com
SUMMARY:Matrix Club Matrix - Live 90s Club Classics - Private Party
DESCRIPTION:
URL:https://www.charmainebaines.com/event/matrix-club-matrix-live-90s-club-classics-private-party/
LOCATION:Private Party\, Lichfield
END:VEVENT
BEGIN:VEVENT
DTSTART;TZID=UTC:20231121T080000
DTEND;TZID=UTC:20231121T170000
DTSTAMP:20260422T150253
CREATED:20231121T180049Z
LAST-MODIFIED:20231121T180049Z
UID:1573-1700553600-1700586000@www.charmainebaines.com
SUMMARY:Matrix Club Matrix 90s Club Classics Live
DESCRIPTION:
URL:https://www.charmainebaines.com/event/matrix-club-matrix-90s-club-classics-live-3/
LOCATION:The Mount Tavern\, 245 Penn Rd\, Wolverhampton WV4 5SF.
END:VEVENT
BEGIN:VEVENT
DTSTART;TZID=UTC:20231110T203000
DTEND;TZID=UTC:20231110T235500
DTSTAMP:20260422T150253
CREATED:20230416T200538Z
LAST-MODIFIED:20231101T195828Z
UID:1495-1699648200-1699660500@www.charmainebaines.com
SUMMARY:Charmaine Baines - Live Vocals & DJ Set
DESCRIPTION:
URL:https://www.charmainebaines.com/event/charmaine-baines-live-vocals-dj-set-2/
LOCATION:The Factory Floor\, Quarter Potbank\, Stoke-on-Trent\, United Kingdom
END:VEVENT
BEGIN:VEVENT
DTSTART;TZID=UTC:20231101T080000
DTEND;TZID=UTC:20231101T170000
DTSTAMP:20260422T150253
CREATED:20231101T200743Z
LAST-MODIFIED:20231101T200743Z
UID:1553-1698825600-1698858000@www.charmainebaines.com
SUMMARY:Matrix Club Matrix 90s Club Classics & Dance Anthems
DESCRIPTION:www.matrixclubmatrix.co.uk
URL:https://www.charmainebaines.com/event/matrix-club-matrix-90s-club-classics-dance-anthems-2/
LOCATION:Granvilles Live Music Venue\, Granvilles Square\, Stone\,Staffs\, ST15 8AB.
END:VEVENT
BEGIN:VEVENT
DTSTART;TZID=UTC:20231028T203000
DTEND;TZID=UTC:20231028T233000
DTSTAMP:20260422T150253
CREATED:20230416T195642Z
LAST-MODIFIED:20230416T201035Z
UID:1485-1698525000-1698535800@www.charmainebaines.com
SUMMARY:Matrix Club Matrix - Live Club Classics
DESCRIPTION:
URL:https://www.charmainebaines.com/event/matrix-club-matrix-live-club-classics-5/
LOCATION:The Factory Floor\, Potbank\, Spode Creative Villiage\, Elenora Street\, Stoke-on-Trent\,\, Stoke-On-Trent\, ST4 1QQ\, United Kingdom
END:VEVENT
BEGIN:VEVENT
DTSTART;TZID=UTC:20231020T083000
DTEND;TZID=UTC:20231020T233000
DTSTAMP:20260422T150253
CREATED:20230618T194943Z
LAST-MODIFIED:20230618T194954Z
UID:1503-1697790600-1697844600@www.charmainebaines.com
SUMMARY:Charmaine Baines - Live at The Factory Floor-  Live Vocal and DJ Set
DESCRIPTION:
URL:https://www.charmainebaines.com/event/charmaine-baines-live-at-the-factory-floor-live-vocal-and-dj-set-at/
LOCATION:The Factory Floor\, Potbank\, Spode Creative Villiage\, Elenora Street\, Stoke-on-Trent\,\, Stoke-On-Trent\, ST4 1QQ\, United Kingdom
END:VEVENT
BEGIN:VEVENT
DTSTART;TZID=UTC:20231014T220000
DTEND;TZID=UTC:20231014T235500
DTSTAMP:20260422T150253
CREATED:20230416T195417Z
LAST-MODIFIED:20230416T200932Z
UID:1483-1697320800-1697327700@www.charmainebaines.com
SUMMARY:Matrix Club Matrix - Live Club Classics
DESCRIPTION:
URL:https://www.charmainebaines.com/event/matrix-club-matrix-live-club-classics-4/
LOCATION:Granvilles Live Music Venue\, Granvilles Square\, Stone\,Staffs\, ST15 8AB.
END:VEVENT
BEGIN:VEVENT
DTSTART;TZID=UTC:20231006T203000
DTEND;TZID=UTC:20231006T235500
DTSTAMP:20260422T150253
CREATED:20230416T200425Z
LAST-MODIFIED:20230618T194549Z
UID:1493-1696624200-1696636500@www.charmainebaines.com
SUMMARY:Charmaine Baines - Live Vocals & DJ Set
DESCRIPTION:
URL:https://www.charmainebaines.com/event/charmaine-baines-live-vocals-dj-set/
LOCATION:The Factory Floor\, Potbank\, Spode Creative Villiage\, Elenora Street\, Stoke-on-Trent\,\, Stoke-On-Trent\, ST4 1QQ\, United Kingdom
END:VEVENT
BEGIN:VEVENT
DTSTART;TZID=UTC:20230922T210000
DTEND;TZID=UTC:20230922T230000
DTSTAMP:20260422T150253
CREATED:20230416T195258Z
LAST-MODIFIED:20230416T195301Z
UID:1481-1695416400-1695423600@www.charmainebaines.com
SUMMARY:Matrix Club Matrix - Live Club Classics
DESCRIPTION:
URL:https://www.charmainebaines.com/event/matrix-club-matrix-live-club-classics-3/
LOCATION:The Mount Tavern\, 245 Penn Rd\, Wolverhampton WV4 5SF.
END:VEVENT
BEGIN:VEVENT
DTSTART;TZID=UTC:20230909T193000
DTEND;TZID=UTC:20230909T233000
DTSTAMP:20260422T150253
CREATED:20230416T195133Z
LAST-MODIFIED:20230416T195135Z
UID:1478-1694287800-1694302200@www.charmainebaines.com
SUMMARY:Private Party - Matrix Club Matrix
DESCRIPTION:
URL:https://www.charmainebaines.com/event/private-party-matrix-club-matrix-3/
LOCATION:Manor House Hotel\, Audley Road\, Alsager\, East Cheshire\, ST7 2QQ
END:VEVENT
BEGIN:VEVENT
DTSTART;TZID=UTC:20230812T190000
DTEND;TZID=UTC:20230812T233000
DTSTAMP:20260422T150253
CREATED:20230416T194616Z
LAST-MODIFIED:20230416T194618Z
UID:1476-1691866800-1691883000@www.charmainebaines.com
SUMMARY:Private Party - Matrix Club Matrix
DESCRIPTION:
URL:https://www.charmainebaines.com/event/private-party-matrix-club-matrix-2/
END:VEVENT
BEGIN:VEVENT
DTSTART;TZID=UTC:20230715T220000
DTEND;TZID=UTC:20230715T233000
DTSTAMP:20260422T150253
CREATED:20230416T194148Z
LAST-MODIFIED:20230618T195243Z
UID:1474-1689458400-1689463800@www.charmainebaines.com
SUMMARY:Matrix Club Matrix - Live Club Classics
DESCRIPTION:
URL:https://www.charmainebaines.com/event/matrix-club-matrix-live-club-classics-2/
LOCATION:The Factory Floor\, Potbank\, Spode Creative Villiage\, Elenora Street\, Stoke-on-Trent\,\, Stoke-On-Trent\, ST4 1QQ\, United Kingdom
END:VEVENT
BEGIN:VEVENT
DTSTART;TZID=UTC:20230707T203000
DTEND;TZID=UTC:20230707T235500
DTSTAMP:20260422T150253
CREATED:20230416T200228Z
LAST-MODIFIED:20230416T200800Z
UID:1491-1688761800-1688774100@www.charmainebaines.com
SUMMARY:Charmaine Baines - Live Vocal & DJ Set
DESCRIPTION:
URL:https://www.charmainebaines.com/event/charmaine-baines-live-vocal-dj-set/
LOCATION:The Factory Floor\, Potbank\, Spode Creative Villiage\, Elenora Street\, Stoke-on-Trent\,\, Stoke-On-Trent\, ST4 1QQ\, United Kingdom
END:VEVENT
BEGIN:VEVENT
DTSTART;TZID=UTC:20230701T100000
DTEND;TZID=UTC:20230701T233000
DTSTAMP:20260422T150253
CREATED:20230416T193622Z
LAST-MODIFIED:20230416T193625Z
UID:1469-1688205600-1688254200@www.charmainebaines.com
SUMMARY:Matrix Club Matrix - Live Club Classics
DESCRIPTION:
URL:https://www.charmainebaines.com/event/matrix-club-matrix-live-club-classics/
LOCATION:Granvilles Live Music Venue\, Granvilles Square\, Stone\,Staffs\, ST15 8AB.
END:VEVENT
BEGIN:VEVENT
DTSTART;TZID=UTC:20230624T090000
DTEND;TZID=UTC:20230624T233000
DTSTAMP:20260422T150253
CREATED:20230416T192158Z
LAST-MODIFIED:20230416T192359Z
UID:1460-1687597200-1687649400@www.charmainebaines.com
SUMMARY:Matrix Club Matrix - Club Classics Live
DESCRIPTION:
URL:https://www.charmainebaines.com/event/matrix-club-matrix-club-classics-live/
LOCATION:The Mount Tavern\, 245 Penn Rd\, Wolverhampton WV4 5SF.
END:VEVENT
BEGIN:VEVENT
DTSTART;TZID=UTC:20230623T093000
DTEND;TZID=UTC:20230623T233000
DTSTAMP:20260422T150253
CREATED:20230618T201049Z
LAST-MODIFIED:20230618T201055Z
UID:1509-1687512600-1687563000@www.charmainebaines.com
SUMMARY:Club Classics Party - The Old Brown Jug
DESCRIPTION:
URL:https://www.charmainebaines.com/event/club-classics-party-the-old-brown-jug/
LOCATION:The Old Brown Jug\, 41\, Bridge Street\, Newcastle-Under-Lyme ST5 2RY\, Staffs\, ST5 2RY\, United Kingdom
END:VEVENT
BEGIN:VEVENT
DTSTART;TZID=Europe/London:20230507T183000
DTEND;TZID=Europe/London:20230507T230000
DTSTAMP:20260422T150253
CREATED:20230414T190336Z
LAST-MODIFIED:20230416T193236Z
UID:1452-1683484200-1683500400@www.charmainebaines.com
SUMMARY:Charmaine Baines - DJ and Live Vocal - King's Coronation Festival Celebration
DESCRIPTION:
URL:https://www.charmainebaines.com/event/charmaine-baines-dj-and-live-vocal-kings-coronation-festival-celebration/
LOCATION:The Cock Inn at Stowe\, Station Road\, Stafford ST18 0LF
END:VEVENT
BEGIN:VEVENT
DTSTART;TZID=Europe/London:20230506T210000
DTEND;TZID=Europe/London:20230506T235500
DTSTAMP:20260422T150253
CREATED:20230414T181251Z
LAST-MODIFIED:20230414T185058Z
UID:1431-1683406800-1683417300@www.charmainebaines.com
SUMMARY:Matrix Club Matrix King's Coronation Club Classics Celebration
DESCRIPTION:
URL:https://www.charmainebaines.com/event/matrix-club-matrix-kings-coronation-club-classics-celebration/
LOCATION:The Factory Floor\, Potbank\, Spode Creative Villiage\, Elenora Street\, Stoke-on-Trent\,\, Stoke-On-Trent\, ST4 1QQ\, United Kingdom
END:VEVENT
BEGIN:VEVENT
DTSTART;TZID=Europe/London:20230505T203000
DTEND;TZID=Europe/London:20230505T235500
DTSTAMP:20260422T150253
CREATED:20230414T185345Z
LAST-MODIFIED:20230414T185345Z
UID:1449-1683318600-1683330900@www.charmainebaines.com
SUMMARY:Charmaine Baines DJ & Live Vocal Set
DESCRIPTION:
URL:https://www.charmainebaines.com/event/charmaine-baines-dj-live-vocal-set/
LOCATION:The Factory Floor\, Potbank\, Spode Creative Villiage\, Elenora Street\, Stoke-on-Trent\,\, Stoke-On-Trent\, ST4 1QQ\, United Kingdom
END:VEVENT
BEGIN:VEVENT
DTSTART;TZID=UTC:20230429T190000
DTEND;TZID=UTC:20230429T233000
DTSTAMP:20260422T150253
CREATED:20230416T191948Z
LAST-MODIFIED:20230416T192859Z
UID:1458-1682794800-1682811000@www.charmainebaines.com
SUMMARY:Private Party - Matrix Club Matrix
DESCRIPTION:
URL:https://www.charmainebaines.com/event/private-party-matrix-club-matrix/
LOCATION:Upper House Hotel The Green\, Stoke-on-Trent ST12 9AE\, Stoke on Trent\, ST12 9AE
END:VEVENT
END:VCALENDAR