BEGIN:VCALENDAR
VERSION:2.0
PRODID:-// - ECPv6.0.12//NONSGML v1.0//EN
CALSCALE:GREGORIAN
METHOD:PUBLISH
X-ORIGINAL-URL:https://www.charmainebaines.com
X-WR-CALDESC:Events for 
REFRESH-INTERVAL;VALUE=DURATION:PT1H
X-Robots-Tag:noindex
X-PUBLISHED-TTL:PT1H
BEGIN:VTIMEZONE
TZID:UTC
BEGIN:STANDARD
TZOFFSETFROM:+0000
TZOFFSETTO:+0000
TZNAME:UTC
DTSTART:20230101T000000
END:STANDARD
TZID:Europe/London
BEGIN:DAYLIGHT
TZOFFSETFROM:+0000
TZOFFSETTO:+0100
TZNAME:BST
DTSTART:20230326T010000
END:DAYLIGHT
BEGIN:STANDARD
TZOFFSETFROM:+0100
TZOFFSETTO:+0000
TZNAME:GMT
DTSTART:20231029T010000
END:STANDARD
END:VTIMEZONE
BEGIN:VEVENT
DTSTART;TZID=UTC:20230624T090000
DTEND;TZID=UTC:20230624T233000
DTSTAMP:20260422T164235
CREATED:20230416T192158Z
LAST-MODIFIED:20230416T192359Z
UID:1460-1687597200-1687649400@www.charmainebaines.com
SUMMARY:Matrix Club Matrix - Club Classics Live
DESCRIPTION:
URL:https://www.charmainebaines.com/event/matrix-club-matrix-club-classics-live/
LOCATION:The Mount Tavern\, 245 Penn Rd\, Wolverhampton WV4 5SF.
END:VEVENT
BEGIN:VEVENT
DTSTART;TZID=UTC:20230623T093000
DTEND;TZID=UTC:20230623T233000
DTSTAMP:20260422T164235
CREATED:20230618T201049Z
LAST-MODIFIED:20230618T201055Z
UID:1509-1687512600-1687563000@www.charmainebaines.com
SUMMARY:Club Classics Party - The Old Brown Jug
DESCRIPTION:
URL:https://www.charmainebaines.com/event/club-classics-party-the-old-brown-jug/
LOCATION:The Old Brown Jug\, 41\, Bridge Street\, Newcastle-Under-Lyme ST5 2RY\, Staffs\, ST5 2RY\, United Kingdom
END:VEVENT
BEGIN:VEVENT
DTSTART;TZID=Europe/London:20230507T183000
DTEND;TZID=Europe/London:20230507T230000
DTSTAMP:20260422T164235
CREATED:20230414T190336Z
LAST-MODIFIED:20230416T193236Z
UID:1452-1683484200-1683500400@www.charmainebaines.com
SUMMARY:Charmaine Baines - DJ and Live Vocal - King's Coronation Festival Celebration
DESCRIPTION:
URL:https://www.charmainebaines.com/event/charmaine-baines-dj-and-live-vocal-kings-coronation-festival-celebration/
LOCATION:The Cock Inn at Stowe\, Station Road\, Stafford ST18 0LF
END:VEVENT
BEGIN:VEVENT
DTSTART;TZID=Europe/London:20230506T210000
DTEND;TZID=Europe/London:20230506T235500
DTSTAMP:20260422T164235
CREATED:20230414T181251Z
LAST-MODIFIED:20230414T185058Z
UID:1431-1683406800-1683417300@www.charmainebaines.com
SUMMARY:Matrix Club Matrix King's Coronation Club Classics Celebration
DESCRIPTION:
URL:https://www.charmainebaines.com/event/matrix-club-matrix-kings-coronation-club-classics-celebration/
LOCATION:The Factory Floor\, Potbank\, Spode Creative Villiage\, Elenora Street\, Stoke-on-Trent\,\, Stoke-On-Trent\, ST4 1QQ\, United Kingdom
END:VEVENT
BEGIN:VEVENT
DTSTART;TZID=Europe/London:20230505T203000
DTEND;TZID=Europe/London:20230505T235500
DTSTAMP:20260422T164236
CREATED:20230414T185345Z
LAST-MODIFIED:20230414T185345Z
UID:1449-1683318600-1683330900@www.charmainebaines.com
SUMMARY:Charmaine Baines DJ & Live Vocal Set
DESCRIPTION:
URL:https://www.charmainebaines.com/event/charmaine-baines-dj-live-vocal-set/
LOCATION:The Factory Floor\, Potbank\, Spode Creative Villiage\, Elenora Street\, Stoke-on-Trent\,\, Stoke-On-Trent\, ST4 1QQ\, United Kingdom
END:VEVENT
BEGIN:VEVENT
DTSTART;TZID=UTC:20230429T190000
DTEND;TZID=UTC:20230429T233000
DTSTAMP:20260422T164236
CREATED:20230416T191948Z
LAST-MODIFIED:20230416T192859Z
UID:1458-1682794800-1682811000@www.charmainebaines.com
SUMMARY:Private Party - Matrix Club Matrix
DESCRIPTION:
URL:https://www.charmainebaines.com/event/private-party-matrix-club-matrix/
LOCATION:Upper House Hotel The Green\, Stoke-on-Trent ST12 9AE\, Stoke on Trent\, ST12 9AE
END:VEVENT
BEGIN:VEVENT
DTSTART;TZID=UTC:20230217T203000
DTEND;TZID=UTC:20230618T233000
DTSTAMP:20260422T164236
CREATED:20230618T201846Z
LAST-MODIFIED:20230618T201846Z
UID:1512-1676665800-1687131000@www.charmainebaines.com
SUMMARY:Matrix Club Matrix at The Factory Floor
DESCRIPTION:
URL:https://www.charmainebaines.com/event/matrix-club-matrix-at-the-factory-floor/
LOCATION:The Factory Floor\, Potbank\, Spode Creative Villiage\, Elenora Street\, Stoke-on-Trent\,\, Stoke-On-Trent\, ST4 1QQ\, United Kingdom
END:VEVENT
END:VCALENDAR